Package: MicrobiomeProfiler Version: 1.16.0 Command: /home/biocbuild/bbs-3.22-bioc/R/bin/R CMD build --keep-empty-dirs --no-resave-data --md5 MicrobiomeProfiler StartedAt: 2025-11-17 22:03:26 -0500 (Mon, 17 Nov 2025) EndedAt: 2025-11-17 22:03:54 -0500 (Mon, 17 Nov 2025) EllapsedTime: 27.0 seconds RetCode: 0 Status: OK PackageFile: MicrobiomeProfiler_1.16.0.tar.gz PackageFileSize: 1.053 MiB