Package: MiPP Version: 1.82.0 Command: /home/biocbuild/bbs-3.22-bioc/R/bin/R CMD build --keep-empty-dirs --no-resave-data --md5 MiPP StartedAt: 2025-11-17 22:05:05 -0500 (Mon, 17 Nov 2025) EndedAt: 2025-11-17 22:05:12 -0500 (Mon, 17 Nov 2025) EllapsedTime: 7.0 seconds RetCode: 0 Status: OK PackageFile: MiPP_1.82.0.tar.gz PackageFileSize: 412 KiB