Package: MiChip Version: 1.64.0 Command: /home/biocbuild/bbs-3.22-bioc/R/bin/R CMD INSTALL MiChip StartedAt: 2025-11-17 17:12:54 -0500 (Mon, 17 Nov 2025) EndedAt: 2025-11-17 17:12:56 -0500 (Mon, 17 Nov 2025) EllapsedTime: 2.6 seconds RetCode: 0 Status: OK