Package: MethylSeekR Version: 1.50.0 Command: /home/biocbuild/bbs-3.22-bioc/R/bin/R CMD build --keep-empty-dirs --no-resave-data --md5 MethylSeekR StartedAt: 2025-11-20 19:27:42 -0500 (Thu, 20 Nov 2025) EndedAt: 2025-11-20 19:29:33 -0500 (Thu, 20 Nov 2025) EllapsedTime: 111.1 seconds RetCode: 0 Status: OK PackageFile: MethylSeekR_1.50.0.tar.gz PackageFileSize: 1.587 MiB