Package: MethTargetedNGS Version: 1.41.0 Command: /home/biocbuild/bbs-3.22-bioc/R/bin/R CMD INSTALL MethTargetedNGS StartedAt: 2025-10-24 16:01:48 -0400 (Fri, 24 Oct 2025) EndedAt: 2025-10-24 16:02:00 -0400 (Fri, 24 Oct 2025) EllapsedTime: 11.3 seconds RetCode: 0 Status: OK