Package: MethReg Version: 1.20.0 Command: /home/biocbuild/bbs-3.22-bioc/R/bin/R CMD INSTALL MethReg StartedAt: 2025-11-03 15:55:24 -0500 (Mon, 03 Nov 2025) EndedAt: 2025-11-03 15:56:19 -0500 (Mon, 03 Nov 2025) EllapsedTime: 55.1 seconds RetCode: 0 Status: OK