Package: MethReg Version: 1.20.0 Command: /home/biocbuild/bbs-3.22-bioc/R/bin/R CMD build --keep-empty-dirs --no-resave-data --md5 MethReg StartedAt: 2025-11-03 18:36:26 -0500 (Mon, 03 Nov 2025) EndedAt: 2025-11-03 18:45:35 -0500 (Mon, 03 Nov 2025) EllapsedTime: 549.4 seconds RetCode: 0 Status: OK PackageFile: MethReg_1.20.0.tar.gz PackageFileSize: 5.203 MiB