Package: MethPed Version: 1.38.0 Command: /home/biocbuild/bbs-3.22-bioc/R/bin/R CMD INSTALL MethPed StartedAt: 2025-11-16 15:14:53 -0500 (Sun, 16 Nov 2025) EndedAt: 2025-11-16 15:15:00 -0500 (Sun, 16 Nov 2025) EllapsedTime: 6.3 seconds RetCode: 0 Status: OK