Package: MethPed Version: 1.38.0 Command: /home/biocbuild/bbs-3.22-bioc/R/bin/R CMD build --keep-empty-dirs --no-resave-data --md5 MethPed StartedAt: 2025-11-16 18:42:15 -0500 (Sun, 16 Nov 2025) EndedAt: 2025-11-16 18:43:45 -0500 (Sun, 16 Nov 2025) EllapsedTime: 90.0 seconds RetCode: 0 Status: OK PackageFile: MethPed_1.38.0.tar.gz PackageFileSize: 9.294 MiB