Package: MetaboSignal Version: 1.40.0 Command: /home/biocbuild/bbs-3.22-bioc/R/bin/R CMD INSTALL MetaboSignal StartedAt: 2025-10-29 22:00:25 -0400 (Wed, 29 Oct 2025) EndedAt: 2025-10-29 22:01:20 -0400 (Wed, 29 Oct 2025) EllapsedTime: 55.3 seconds RetCode: 0 Status: OK