Package: MetaboSignal Version: 1.40.0 Command: /home/biocbuild/bbs-3.22-bioc/R/bin/R CMD build --keep-empty-dirs --no-resave-data --md5 MetaboSignal StartedAt: 2025-10-30 00:55:17 -0400 (Thu, 30 Oct 2025) EndedAt: 2025-10-30 00:57:08 -0400 (Thu, 30 Oct 2025) EllapsedTime: 111.1 seconds RetCode: 0 Status: OK PackageFile: MetaboSignal_1.40.0.tar.gz PackageFileSize: 2.091 MiB