Package: MetaboDynamics Version: 1.99.12 Command: /home/biocbuild/bbs-3.22-bioc/R/bin/R CMD INSTALL MetaboDynamics StartedAt: 2025-10-24 15:35:47 -0400 (Fri, 24 Oct 2025) EndedAt: 2025-10-24 15:41:07 -0400 (Fri, 24 Oct 2025) EllapsedTime: 320.4 seconds RetCode: 0 Status: OK