Package: MetaboCoreUtils Version: 1.18.1 Command: /home/biocbuild/bbs-3.22-bioc/R/bin/R CMD check --install=check:MetaboCoreUtils.install-out.txt --library=/home/biocbuild/bbs-3.22-bioc/R/site-library --timings MetaboCoreUtils_1.18.1.tar.gz StartedAt: 2025-11-26 01:39:05 -0500 (Wed, 26 Nov 2025) EndedAt: 2025-11-26 01:40:05 -0500 (Wed, 26 Nov 2025) EllapsedTime: 60.0 seconds RetCode: 0 Status: OK CheckDir: MetaboCoreUtils.Rcheck Warnings: 0