Package: MetaboCoreUtils Version: 1.18.0 Command: /Library/Frameworks/R.framework/Resources/bin/R CMD build --keep-empty-dirs --no-resave-data MetaboCoreUtils StartedAt: 2025-11-17 23:50:38 -0500 (Mon, 17 Nov 2025) EndedAt: 2025-11-17 23:51:09 -0500 (Mon, 17 Nov 2025) EllapsedTime: 31.1 seconds RetCode: 0 Status: OK PackageFile: MetaboCoreUtils_1.18.0.tar.gz PackageFileSize: 1.01 MiB