Package: MetaboCoreUtils Version: 1.18.0 Command: rm -rf MetaboCoreUtils.buildbin-libdir && mkdir MetaboCoreUtils.buildbin-libdir && /Users/biocbuild/BBS/utils/build-universal.sh MetaboCoreUtils_1.18.0.tar.gz /Library/Frameworks/R.framework/Resources/bin/R MetaboCoreUtils.buildbin-libdir StartedAt: 2025-11-18 17:59:07 -0500 (Tue, 18 Nov 2025) EndedAt: 2025-11-18 17:59:22 -0500 (Tue, 18 Nov 2025) EllapsedTime: 14.3 seconds RetCode: 0 Status: OK PackageFile: MetaboCoreUtils_1.18.0.tgz PackageFileSize: 1.09 MiB