Package: MetaboCoreUtils Version: 1.18.0 Command: /Library/Frameworks/R.framework/Resources/bin/R CMD INSTALL MetaboCoreUtils StartedAt: 2025-11-17 17:14:04 -0500 (Mon, 17 Nov 2025) EndedAt: 2025-11-17 17:14:07 -0500 (Mon, 17 Nov 2025) EllapsedTime: 2.4 seconds RetCode: 0 Status: OK