Package: MetaboCoreUtils Version: 1.18.0 Command: /Library/Frameworks/R.framework/Resources/bin/R CMD build --keep-empty-dirs --no-resave-data MetaboCoreUtils StartedAt: 2025-11-17 22:36:18 -0500 (Mon, 17 Nov 2025) EndedAt: 2025-11-17 22:36:25 -0500 (Mon, 17 Nov 2025) EllapsedTime: 7.1 seconds RetCode: 0 Status: OK PackageFile: MetaboCoreUtils_1.18.0.tar.gz PackageFileSize: 1.011 MiB