Package: MetaboAnnotation Version: 1.14.0 Command: /Library/Frameworks/R.framework/Resources/bin/R CMD INSTALL MetaboAnnotation StartedAt: 2025-11-03 15:37:21 -0500 (Mon, 03 Nov 2025) EndedAt: 2025-11-03 15:38:18 -0500 (Mon, 03 Nov 2025) EllapsedTime: 56.9 seconds RetCode: 0 Status: OK