Package: MetaboAnnotation Version: 1.14.0 Command: /Library/Frameworks/R.framework/Resources/bin/R CMD build --keep-empty-dirs --no-resave-data MetaboAnnotation StartedAt: 2025-11-03 17:39:13 -0500 (Mon, 03 Nov 2025) EndedAt: 2025-11-03 17:41:08 -0500 (Mon, 03 Nov 2025) EllapsedTime: 115.4 seconds RetCode: 0 Status: OK PackageFile: MetaboAnnotation_1.14.0.tar.gz PackageFileSize: 1.251 MiB