Package: MetaboAnnotation Version: 1.14.0 Command: rm -rf MetaboAnnotation.buildbin-libdir && mkdir MetaboAnnotation.buildbin-libdir && /Users/biocbuild/BBS/utils/build-universal.sh MetaboAnnotation_1.14.0.tar.gz /Library/Frameworks/R.framework/Resources/bin/R MetaboAnnotation.buildbin-libdir StartedAt: 2025-11-04 01:48:38 -0500 (Tue, 04 Nov 2025) EndedAt: 2025-11-04 01:49:41 -0500 (Tue, 04 Nov 2025) EllapsedTime: 63.4 seconds RetCode: 0 Status: OK PackageFile: MetaboAnnotation_1.14.0.tgz PackageFileSize: 1.761 MiB