Package: MetaboAnnotation Version: 1.14.0 Command: /Library/Frameworks/R.framework/Resources/bin/R CMD INSTALL MetaboAnnotation StartedAt: 2025-11-02 15:19:41 -0500 (Sun, 02 Nov 2025) EndedAt: 2025-11-02 15:19:59 -0500 (Sun, 02 Nov 2025) EllapsedTime: 17.4 seconds RetCode: 0 Status: OK