Package: MetaboAnnotation Version: 1.14.0 Command: /Library/Frameworks/R.framework/Resources/bin/R CMD build --keep-empty-dirs --no-resave-data MetaboAnnotation StartedAt: 2025-11-02 16:55:21 -0500 (Sun, 02 Nov 2025) EndedAt: 2025-11-02 16:56:04 -0500 (Sun, 02 Nov 2025) EllapsedTime: 43.5 seconds RetCode: 0 Status: OK PackageFile: MetaboAnnotation_1.14.0.tar.gz PackageFileSize: 1.252 MiB