Package: MetaCyto Version: 1.31.0 Command: /home/biocbuild/bbs-3.22-bioc/R/bin/R CMD INSTALL MetaCyto StartedAt: 2025-10-24 15:24:34 -0400 (Fri, 24 Oct 2025) EndedAt: 2025-10-24 15:24:48 -0400 (Fri, 24 Oct 2025) EllapsedTime: 14.0 seconds RetCode: 0 Status: OK