Package: MetaCyto Version: 1.31.0 Command: /home/biocbuild/bbs-3.22-bioc/R/bin/R CMD build --keep-empty-dirs --no-resave-data --md5 MetaCyto StartedAt: 2025-10-24 18:42:39 -0400 (Fri, 24 Oct 2025) EndedAt: 2025-10-24 18:45:52 -0400 (Fri, 24 Oct 2025) EllapsedTime: 193.1 seconds RetCode: 0 Status: OK PackageFile: MetaCyto_1.31.0.tar.gz PackageFileSize: 1.028 MiB