Package: MetMashR Version: 1.4.0 Command: /home/biocbuild/bbs-3.22-bioc/R/bin/R CMD INSTALL MetMashR StartedAt: 2025-11-10 15:37:48 -0500 (Mon, 10 Nov 2025) EndedAt: 2025-11-10 15:38:22 -0500 (Mon, 10 Nov 2025) EllapsedTime: 34.2 seconds RetCode: 0 Status: OK