Package: MetCirc Version: 1.40.0 Command: /home/biocbuild/bbs-3.22-bioc/R/bin/R CMD build --keep-empty-dirs --no-resave-data --md5 MetCirc StartedAt: 2025-10-31 18:43:48 -0400 (Fri, 31 Oct 2025) EndedAt: 2025-10-31 18:44:50 -0400 (Fri, 31 Oct 2025) EllapsedTime: 62.0 seconds RetCode: 0 Status: OK PackageFile: MetCirc_1.40.0.tar.gz PackageFileSize: 2.069 MiB