Package: MesKit Version: 1.20.0 Command: /Library/Frameworks/R.framework/Resources/bin/R CMD INSTALL MesKit StartedAt: 2025-11-10 15:09:26 -0500 (Mon, 10 Nov 2025) EndedAt: 2025-11-10 15:09:35 -0500 (Mon, 10 Nov 2025) EllapsedTime: 8.4 seconds RetCode: 0 Status: OK