Package: MesKit Version: 1.20.0 Command: /Library/Frameworks/R.framework/Resources/bin/R CMD build --keep-empty-dirs --no-resave-data MesKit StartedAt: 2025-11-10 16:55:52 -0500 (Mon, 10 Nov 2025) EndedAt: 2025-11-10 16:56:30 -0500 (Mon, 10 Nov 2025) EllapsedTime: 38.5 seconds RetCode: 0 Status: OK PackageFile: MesKit_1.20.0.tar.gz PackageFileSize: 4.031 MiB