Package: MesKit Version: 1.20.0 Command: rm -rf MesKit.buildbin-libdir && mkdir MesKit.buildbin-libdir && /Users/biocbuild/BBS/utils/build-universal.sh MesKit_1.20.0.tar.gz /Library/Frameworks/R.framework/Resources/bin/R MesKit.buildbin-libdir StartedAt: 2025-11-10 23:26:00 -0500 (Mon, 10 Nov 2025) EndedAt: 2025-11-10 23:26:10 -0500 (Mon, 10 Nov 2025) EllapsedTime: 10.2 seconds RetCode: 0 Status: OK PackageFile: MesKit_1.20.0.tgz PackageFileSize: 4.159 MiB