Package: MeasurementError.cor Version: 1.82.0 Command: /Library/Frameworks/R.framework/Resources/bin/R CMD INSTALL MeasurementError.cor StartedAt: 2025-11-10 15:01:43 -0500 (Mon, 10 Nov 2025) EndedAt: 2025-11-10 15:01:50 -0500 (Mon, 10 Nov 2025) EllapsedTime: 6.9 seconds RetCode: 0 Status: OK