Package: MeasurementError.cor Version: 1.82.0 Command: rm -rf MeasurementError.cor.buildbin-libdir && mkdir MeasurementError.cor.buildbin-libdir && /Users/biocbuild/BBS/utils/build-universal.sh MeasurementError.cor_1.82.0.tar.gz /Library/Frameworks/R.framework/Resources/bin/R MeasurementError.cor.buildbin-libdir StartedAt: 2025-11-10 23:25:50 -0500 (Mon, 10 Nov 2025) EndedAt: 2025-11-10 23:25:52 -0500 (Mon, 10 Nov 2025) EllapsedTime: 2.0 seconds RetCode: 0 Status: OK PackageFile: MeasurementError.cor_1.82.0.tgz PackageFileSize: 173.7 KiB