Package: MeasurementError.cor Version: 1.82.0 Command: /Library/Frameworks/R.framework/Resources/bin/R CMD INSTALL MeasurementError.cor StartedAt: 2025-11-24 15:14:40 -0500 (Mon, 24 Nov 2025) EndedAt: 2025-11-24 15:14:43 -0500 (Mon, 24 Nov 2025) EllapsedTime: 3.2 seconds RetCode: 0 Status: OK