Package: MeSHDbi Version: 1.46.0 Command: /home/biocbuild/bbs-3.22-bioc/R/bin/R CMD build --keep-empty-dirs --no-resave-data --md5 MeSHDbi StartedAt: 2025-11-16 18:39:31 -0500 (Sun, 16 Nov 2025) EndedAt: 2025-11-16 18:39:46 -0500 (Sun, 16 Nov 2025) EllapsedTime: 15.0 seconds RetCode: 0 Status: OK PackageFile: MeSHDbi_1.46.0.tar.gz PackageFileSize: 120.8 KiB