Package: MatrixRider Version: 1.42.0 Command: /home/biocbuild/bbs-3.22-bioc/R/bin/R CMD build --keep-empty-dirs --no-resave-data --md5 MatrixRider StartedAt: 2025-11-14 18:32:08 -0500 (Fri, 14 Nov 2025) EndedAt: 2025-11-14 18:32:58 -0500 (Fri, 14 Nov 2025) EllapsedTime: 50.0 seconds RetCode: 0 Status: OK PackageFile: MatrixRider_1.42.0.tar.gz PackageFileSize: 264.8 KiB