Package: MatrixQCvis Version: 1.17.1 Command: /home/biocbuild/bbs-3.22-bioc/R/bin/R CMD INSTALL MatrixQCvis StartedAt: 2025-10-28 15:36:07 -0400 (Tue, 28 Oct 2025) EndedAt: 2025-10-28 15:36:49 -0400 (Tue, 28 Oct 2025) EllapsedTime: 41.7 seconds RetCode: 0 Status: OK