Package: MatrixGenerics Version: 1.22.0 Command: /Library/Frameworks/R.framework/Resources/bin/R CMD INSTALL MatrixGenerics StartedAt: 2025-11-03 15:10:53 -0500 (Mon, 03 Nov 2025) EndedAt: 2025-11-03 15:11:27 -0500 (Mon, 03 Nov 2025) EllapsedTime: 34.5 seconds RetCode: 0 Status: OK