Package: MatrixGenerics Version: 1.22.0 Command: /Library/Frameworks/R.framework/Resources/bin/R CMD INSTALL MatrixGenerics StartedAt: 2025-11-03 15:02:16 -0500 (Mon, 03 Nov 2025) EndedAt: 2025-11-03 15:02:21 -0500 (Mon, 03 Nov 2025) EllapsedTime: 5.3 seconds RetCode: 0 Status: OK