Package: MatrixGenerics Version: 1.22.0 Command: /Library/Frameworks/R.framework/Resources/bin/R CMD INSTALL MatrixGenerics StartedAt: 2025-11-17 16:55:40 -0500 (Mon, 17 Nov 2025) EndedAt: 2025-11-17 16:55:42 -0500 (Mon, 17 Nov 2025) EllapsedTime: 1.7 seconds RetCode: 0 Status: OK