Package: MatrixGenerics Version: 1.22.0 Command: /Library/Frameworks/R.framework/Resources/bin/R CMD build --keep-empty-dirs --no-resave-data MatrixGenerics StartedAt: 2025-11-17 22:32:02 -0500 (Mon, 17 Nov 2025) EndedAt: 2025-11-17 22:32:03 -0500 (Mon, 17 Nov 2025) EllapsedTime: 1.0 seconds RetCode: 0 Status: OK PackageFile: MatrixGenerics_1.22.0.tar.gz PackageFileSize: 31.24 KiB