Package: MatrixGenerics Version: 1.22.0 Command: rm -rf MatrixGenerics.buildbin-libdir && mkdir MatrixGenerics.buildbin-libdir && /Users/biocbuild/BBS/utils/build-universal.sh MatrixGenerics_1.22.0.tar.gz /Library/Frameworks/R.framework/Resources/bin/R MatrixGenerics.buildbin-libdir StartedAt: 2025-11-18 15:49:34 -0500 (Tue, 18 Nov 2025) EndedAt: 2025-11-18 15:49:37 -0500 (Tue, 18 Nov 2025) EllapsedTime: 3.0 seconds RetCode: 0 Status: OK PackageFile: MatrixGenerics_1.22.0.tgz PackageFileSize: 449 KiB