Package: MassSpecWavelet Version: 1.75.1 Command: /home/biocbuild/bbs-3.22-bioc/R/bin/R CMD INSTALL MassSpecWavelet StartedAt: 2025-10-24 15:12:30 -0400 (Fri, 24 Oct 2025) EndedAt: 2025-10-24 15:12:44 -0400 (Fri, 24 Oct 2025) EllapsedTime: 13.9 seconds RetCode: 0 Status: OK