Package: MassSpecWavelet Version: 1.75.1 Command: /home/biocbuild/bbs-3.22-bioc/R/bin/R CMD build --keep-empty-dirs --no-resave-data --md5 MassSpecWavelet StartedAt: 2025-10-24 18:37:55 -0400 (Fri, 24 Oct 2025) EndedAt: 2025-10-24 18:38:39 -0400 (Fri, 24 Oct 2025) EllapsedTime: 44.0 seconds RetCode: 0 Status: OK PackageFile: MassSpecWavelet_1.75.1.tar.gz PackageFileSize: 2.173 MiB