Package: MassSpecWavelet Version: 1.76.0 Command: /Library/Frameworks/R.framework/Resources/bin/R CMD INSTALL MassSpecWavelet StartedAt: 2025-11-10 15:01:13 -0500 (Mon, 10 Nov 2025) EndedAt: 2025-11-10 15:01:18 -0500 (Mon, 10 Nov 2025) EllapsedTime: 5.1 seconds RetCode: 0 Status: OK