Package: MassSpecWavelet Version: 1.76.0 Command: /Library/Frameworks/R.framework/Resources/bin/R CMD build --keep-empty-dirs --no-resave-data MassSpecWavelet StartedAt: 2025-11-10 16:53:44 -0500 (Mon, 10 Nov 2025) EndedAt: 2025-11-10 16:54:18 -0500 (Mon, 10 Nov 2025) EllapsedTime: 33.4 seconds RetCode: 0 Status: OK PackageFile: MassSpecWavelet_1.76.0.tar.gz PackageFileSize: 2.091 MiB