Package: MassSpecWavelet Version: 1.76.0 Command: rm -rf MassSpecWavelet.buildbin-libdir && mkdir MassSpecWavelet.buildbin-libdir && /Users/biocbuild/BBS/utils/build-universal.sh MassSpecWavelet_1.76.0.tar.gz /Library/Frameworks/R.framework/Resources/bin/R MassSpecWavelet.buildbin-libdir StartedAt: 2025-11-10 23:25:35 -0500 (Mon, 10 Nov 2025) EndedAt: 2025-11-10 23:25:38 -0500 (Mon, 10 Nov 2025) EllapsedTime: 3.1 seconds RetCode: 0 Status: OK PackageFile: MassSpecWavelet_1.76.0.tgz PackageFileSize: 2.178 MiB