Package: MassArray Version: 1.62.0 Command: /Library/Frameworks/R.framework/Resources/bin/R CMD INSTALL MassArray StartedAt: 2025-11-10 15:01:25 -0500 (Mon, 10 Nov 2025) EndedAt: 2025-11-10 15:01:27 -0500 (Mon, 10 Nov 2025) EllapsedTime: 2.1 seconds RetCode: 0 Status: OK