Package: MassArray Version: 1.62.0 Command: /Library/Frameworks/R.framework/Resources/bin/R CMD build --keep-empty-dirs --no-resave-data MassArray StartedAt: 2025-11-10 16:53:37 -0500 (Mon, 10 Nov 2025) EndedAt: 2025-11-10 16:53:48 -0500 (Mon, 10 Nov 2025) EllapsedTime: 11.1 seconds RetCode: 0 Status: OK PackageFile: MassArray_1.62.0.tar.gz PackageFileSize: 375 KiB