Package: MassArray Version: 1.62.0 Command: rm -rf MassArray.buildbin-libdir && mkdir MassArray.buildbin-libdir && /Users/biocbuild/BBS/utils/build-universal.sh MassArray_1.62.0.tar.gz /Library/Frameworks/R.framework/Resources/bin/R MassArray.buildbin-libdir StartedAt: 2025-11-10 23:25:33 -0500 (Mon, 10 Nov 2025) EndedAt: 2025-11-10 23:25:36 -0500 (Mon, 10 Nov 2025) EllapsedTime: 3.0 seconds RetCode: 0 Status: OK PackageFile: MassArray_1.62.0.tgz PackageFileSize: 650.3 KiB