Package: Macarron Version: 1.14.0 Command: /home/biocbuild/bbs-3.22-bioc/R/bin/R CMD INSTALL Macarron StartedAt: 2025-11-02 15:58:28 -0500 (Sun, 02 Nov 2025) EndedAt: 2025-11-02 15:58:52 -0500 (Sun, 02 Nov 2025) EllapsedTime: 23.4 seconds RetCode: 0 Status: OK