Package: Macarron Version: 1.14.0 Command: /home/biocbuild/bbs-3.22-bioc/R/bin/R CMD build --keep-empty-dirs --no-resave-data --md5 Macarron StartedAt: 2025-11-02 18:40:15 -0500 (Sun, 02 Nov 2025) EndedAt: 2025-11-02 18:46:22 -0500 (Sun, 02 Nov 2025) EllapsedTime: 367.3 seconds RetCode: 1 Status: ERROR PackageFile: None PackageFileSize: NA